Workbook
Name __tot12: '[1]Bill No. 6'!#REF!
Name __tot12: '[1]Bill No. 6'!#REF!
Name __tot12: '[1]Bill No. 6'!#REF!
Name __tot12: '[1]Bill No. 6'!#REF!
Name __tot12: '[2]Bill No. 6'!#REF!
Name _27Certificate_Printout: #REF!
Name _27Certificate_Printout: #REF!
Name _27Certificate_Printout: #REF!
Name _27Certificate_Printout: #REF!
Name _27Certificate_Printout: #REF!
Name _54Certificate_Turnaround: #REF!
Name _54Certificate_Turnaround: #REF!
Name _54Certificate_Turnaround: #REF!
Name _54Certificate_Turnaround: #REF!
Name _54Certificate_Turnaround: #REF!
Name _l3input: #REF!
Name _l3input: #REF!
Name _l3input: #REF!
Name _l3input: #REF!
Name _l3input: #REF!
Name _l3input2: #REF!
Name _l3input2: #REF!
Name _l3input2: #REF!
Name _l3input2: #REF!
Name _l3input2: #REF!
Name _l3inputD: #REF!
Name _l3inputD: #REF!
Name _l3inputD: #REF!
Name _l3inputD: #REF!
Name _l3inputD: #REF!
Name _tot1: #REF!
Name _tot1: #REF!
Name _tot1: #REF!
Name _tot1: #REF!
Name _tot1: #REF!
Name _tot10: #REF!
Name _tot10: #REF!
Name _tot10: #REF!
Name _tot10: #REF!
Name _tot10: #REF!
Name _tot11: #REF!
Name _tot11: #REF!
Name _tot11: #REF!
Name _tot11: #REF!
Name _tot11: #REF!
Name _tot12: #REF!
Name _tot12: #REF!
Name _tot12: #REF!
Name _tot12: #REF!
Name _tot12: #REF!
Name _TOT1234: #REF!
Name _TOT1234: #REF!
Name _TOT1234: #REF!
Name _TOT1234: #REF!
Name _TOT1234: #REF!
Name _tot2: #REF!
Name _tot2: #REF!
Name _tot2: #REF!
Name _tot2: #REF!
Name _tot2: #REF!

Sheet Blank
B1: DEPARTMENT OF URBAN ROADS,EASTERN REGION
B3: ='bill (3)'!B4:G4 -> GRADING AND SPOT IMPROVEMENT OF ROAD NETWORK ON SOME SELECTED ELECTORAL AREAS WITHIN THE MUNICIPALITY
B4: ITEM | C4: DESCRIPTION | D4: UNIT | E4: QTY | F4: RATE | G4: AMOUNT
B5: CODE | F5: ( GH¢) | G5: ( GH¢)
C7: BILL NO. 1 - GENERAL ITEMS
C9: Contractual Requirements
B10: A221.1 | C10: Provide Engineer's Facilities | D10: P.sum | E10: Item | I10: =G58*0.3*0.03 -> 0
B12: A221.2 | C12: Percentage adjustment to A221.1 | D12: % | E12: Item
B14: A272 | C14: Provide and maintain traffic safety signs and systems during | D14: Sum | E14: Item
C15: construction | N15: =350+200+400 -> 950
B17: A420.1 | C17: Allow for reinstatement and relocation of services | D17: P.sum | E17: Item
B19: A420.2 | C19: Percentage adjustment to A420.1 | D19: % | E19: Item
C21: =+C7 -> BILL NO. 1 - GENERAL ITEMS
C22: CARRIED TO GRAND SUMMARY
B25: ITEM | C25: DESCRIPTION | D25: UNIT | E25: QTY | F25: RATE GH¢ | G25: AMOUNT GH¢
C26: BILL NO. 2 - RESHAPING
B28: E522 | C28: Blade and reshape existing potholed or damaged gravel/ earth road to crossfall | D28: m² | E28: =bill!E28 -> 13860
B30: E624 | C30: Water and compact graded surfaces | D30: m² | E30: =E28 -> 13860
B32: E615 | C32: Provide, lay and compact approved imported gravel fill material | D32: m³ | E32: =bill!E32 -> 100
B34: E900.1 | C34: Extra over for haulage of imported gravel fill material (1-20km) | D34: m³km | E34: =bill!E34 -> 2208
B36: K463.1 | C36: Re-excavate v- section earth ditch | D36: m | E36: =E28 -> 13860
C39: =C26 -> BILL NO. 2 - RESHAPING
C40: CARRIED TO GRAND SUMMARY
B44: =B3 -> GRADING AND SPOT IMPROVEMENT OF ROAD NETWORK ON SOME SELECTED ELECTORAL AREAS WITHIN THE MUNICIPALITY
B45: ITEM | C45: DESCRIPTION | D45: UNIT | E45: QTY | F45: RATE GH¢ | G45: AMOUNT GH¢
C47: GRAND SUMMARY
C50: =C21 -> BILL NO. 1 - GENERAL ITEMS
C54: =C39 -> BILL NO. 2 - RESHAPING
I55: 120000
C57: =C47 -> GRAND SUMMARY
C58: TOTAL | I58: 201800
B61: EMERGENCY DREDGING OF KANKAN RIVER/ STREAM IN ATIWA WEST DISTRICT
B62: ITEM | C62: DESCRIPTION | D62: UNIT | E62: QTY | F62: RATE | G62: AMOUNT
B63: CODE | F63: ( GH¢) | G63: ( GH¢)
C65: BILL NO. 1 - GENERAL ITEMS
C67: Contractual Requirements
B68: A290 | C68: Provide progress photographs (before, during and after) | D68: Item | E68: Sum | G68: 300
C74: =+C65 -> BILL NO. 1 - GENERAL ITEMS
C75: CARRIED TO GRAND SUMMARY | G75: =SUM(G67:G74) -> 300
B78: ITEM | C78: DESCRIPTION | D78: UNIT | E78: QTY | F78: RATE GH¢ | G78: AMOUNT GH¢
C79: BILL NO. 2 - DREDGING
B81: D100 | C81: Clear site of light bush | D81: m² | F81: 0.8 | G81: =+F81*E81 -> 0
B84: E550 | C84: Dredge river/stream channel to remove silt and spread off bank | D84: m³ | E84: =ROUND(3000*8*1.1,0) -> 26400 | F84: 35 | G84: =+F84*E84 -> 924000
C90: =C79 -> BILL NO. 2 - DREDGING
C91: CARRIED TO GRAND SUMMARY | G91: =SUM(G80:G90) -> 924000
B95: =B61 -> EMERGENCY DREDGING OF KANKAN RIVER/ STREAM IN ATIWA WEST DISTRICT
B96: ITEM | C96: DESCRIPTION | D96: UNIT | E96: QTY | F96: RATE GH¢ | G96: AMOUNT GH¢
C98: SUMMARY
C101: =C74 -> BILL NO. 1 - GENERAL ITEMS | G101: =G75 -> 300
C105: =C90 -> BILL NO. 2 - DREDGING | G105: =G91 -> 924000
C111: =C98 -> SUMMARY
C112: CARRIED TO GRAND SUMMARY | G112: =SUM(G99:G111) -> 924300
B116: EMERGENCY DREDGING OF AKOTUANIE RIVER/ STREAM IN ATIWA WEST DISTRICT
B117: ITEM | C117: DESCRIPTION | D117: UNIT | E117: QTY | F117: RATE | G117: AMOUNT
B118: CODE | F118: ( GH¢) | G118: ( GH¢)
C120: BILL NO. 1 - GENERAL ITEMS
C122: Contractual Requirements
B123: A290 | C123: Provide progress photographs (before, during and after) | D123: Item | E123: Sum | G123: 150
C129: =+C120 -> BILL NO. 1 - GENERAL ITEMS
C130: CARRIED TO GRAND SUMMARY | G130: =SUM(G122:G129) -> 150
B133: ITEM | C133: DESCRIPTION | D133: UNIT | E133: QTY | F133: RATE GH¢ | G133: AMOUNT GH¢
C134: BILL NO. 2 - DREDGING
B136: D100 | C136: Clear site of light bush | D136: m² | F136: 0.8 | G136: =+F136*E136 -> 0
B139: E550 | C139: Dredge river/stream channel to remove silt and spread off bank | D139: m³ | E139: =ROUND(1000*5.8*0.8,0) -> 4640 | F139: 35 | G139: =+F139*E139 -> 162400
C145: =C134 -> BILL NO. 2 - DREDGING
C146: CARRIED TO GRAND SUMMARY | G146: =SUM(G135:G145) -> 162400
B150: =B116 -> EMERGENCY DREDGING OF AKOTUANIE RIVER/ STREAM IN ATIWA WEST DISTRICT
B151: ITEM | C151: DESCRIPTION | D151: UNIT | E151: QTY | F151: RATE GH¢ | G151: AMOUNT GH¢
C153: SUMMARY
C156: =C129 -> BILL NO. 1 - GENERAL ITEMS | G156: =G130 -> 150
C160: =C145 -> BILL NO. 2 - DREDGING | G160: =G146 -> 162400
C166: =C153 -> SUMMARY
C167: CARRIED TO GRAND SUMMARY | G167: =SUM(G154:G166) -> 162550
B170: EMERGENCY DREDGING OF BABITRI RIVER/ STREAM IN ATIWA WEST DISTRICT
B171: ITEM | C171: DESCRIPTION | D171: UNIT | E171: QTY | F171: RATE | G171: AMOUNT
B172: CODE | F172: ( GH¢) | G172: ( GH¢)
C174: BILL NO. 1 - GENERAL ITEMS
C176: Contractual Requirements
B177: A290 | C177: Provide progress photographs (before, during and after) | D177: Item | E177: Sum | G177: 200
C183: =+C174 -> BILL NO. 1 - GENERAL ITEMS
C184: CARRIED TO GRAND SUMMARY | G184: =SUM(G176:G183) -> 200
B187: ITEM | C187: DESCRIPTION | D187: UNIT | E187: QTY | F187: RATE GH¢ | G187: AMOUNT GH¢
C188: BILL NO. 2 - DREDGING
B190: D100 | C190: Clear site of light bush | D190: m² | F190: 0.8 | G190: =+F190*E190 -> 0
B193: E550 | C193: Dredge river/stream channel to remove silt and spread off bank | D193: m³ | E193: =ROUND(800*7.8*1,0) -> 6240 | F193: 35 | G193: =+F193*E193 -> 218400
C199: =C188 -> BILL NO. 2 - DREDGING
C200: CARRIED TO GRAND SUMMARY | G200: =SUM(G189:G199) -> 218400
B204: =B170 -> EMERGENCY DREDGING OF BABITRI RIVER/ STREAM IN ATIWA WEST DISTRICT
B205: ITEM | C205: DESCRIPTION | D205: UNIT | E205: QTY | F205: RATE GH¢ | G205: AMOUNT GH¢
C207: SUMMARY
C210: =C183 -> BILL NO. 1 - GENERAL ITEMS | G210: =G184 -> 200
C214: =C199 -> BILL NO. 2 - DREDGING | G214: =G200 -> 218400
C220: =C207 -> SUMMARY
C221: CARRIED TO GRAND SUMMARY | G221: =SUM(G208:G220) -> 218600
B224: EMERGENCY DREDGING OF AKPETESUA RIVER/ STREAM IN ATIWA WEST DISTRICT
B225: ITEM | C225: DESCRIPTION | D225: UNIT | E225: QTY | F225: RATE | G225: AMOUNT
B226: CODE | F226: ( GH¢) | G226: ( GH¢)
C228: BILL NO. 1 - GENERAL ITEMS
C230: Contractual Requirements
B231: A290 | C231: Provide progress photographs (before, during and after) | D231: Item | E231: Sum | G231: 200
...

Sheet bill (3)
B1: DEPARTMENT OF URBAN ROADS,EASTERN REGION
B4: ='bill (2)'!B4:G4 -> GRADING AND SPOT IMPROVEMENT OF ROAD NETWORK ON SOME SELECTED ELECTORAL AREAS WITHIN THE MUNICIPALITY
B5: ITEM | C5: DESCRIPTION | D5: UNIT | E5: QTY | F5: RATE | G5: AMOUNT
B6: CODE | F6: ( GH¢) | G6: ( GH¢)
C8: BILL NO. 1 - GENERAL ITEMS
C10: Contractual Requirements
B11: A221.1 | C11: Provide Engineer's Facilities | D11: P.sum | E11: Item | G11: 11000 | I11: =G59*0.3*0.03 -> 1778.58
B13: A221.2 | C13: Percentage adjustment to A221.1 | D13: % | E13: Item | F13: 25 | G13: =G11*F13% -> 2750
B15: A272 | C15: Provide and maintain traffic safety signs and systems during | D15: Sum | E15: Item | G15: 1200
C16: construction
B18: A420.1 | C18: Allow for reinstatement and relocation of services | D18: P.sum | E18: Item | G18: 1300
B20: A420.2 | C20: Percentage adjustment to A420.1 | D20: % | E20: Item | F20: 30 | G20: =G18*F20% -> 390
C22: =+C8 -> BILL NO. 1 - GENERAL ITEMS
C23: CARRIED TO GRAND SUMMARY | G23: =SUM(G10:G22) -> 16640
B26: ITEM | C26: DESCRIPTION | D26: UNIT | E26: QTY | F26: RATE GH¢ | G26: AMOUNT GH¢
C27: BILL NO. 2 - RESHAPING
B29: E522 | C29: Blade and reshape existing potholed or damaged gravel/ earth road to crossfall | D29: m² | E29: =bill!E28 -> 13860 | F29: 7 | G29: =+F29*E29 -> 97020
B31: E624 | C31: Water and compact graded surfaces | D31: m² | E31: =E29 -> 13860 | F31: 1.6 | G31: =+F31*E31 -> 22176
B33: E615 | C33: Provide, lay and compact approved imported gravel fill material | D33: m³ | E33: =bill!E32 -> 100 | F33: 20 | G33: =+F33*E33 -> 2000
B35: E900.1 | C35: Extra over for haulage of imported gravel fill material (1-20km) | D35: m³km | E35: =bill!E34 -> 2208 | F35: 9.5 | G35: =+F35*E35 -> 20976
B37: K463.1 | C37: Re-excavate v- section earth ditch | D37: m | E37: =E29 -> 13860 | F37: 2.8 | G37: =+F37*E37 -> 38808
C40: =C27 -> BILL NO. 2 - RESHAPING
C41: CARRIED TO GRAND SUMMARY | G41: =SUM(G28:G40) -> 180980
B45: =B4 -> GRADING AND SPOT IMPROVEMENT OF ROAD NETWORK ON SOME SELECTED ELECTORAL AREAS WITHIN THE MUNICIPALITY
B46: ITEM | C46: DESCRIPTION | D46: UNIT | E46: QTY | F46: RATE GH¢ | G46: AMOUNT GH¢
C48: GRAND SUMMARY
C51: =C22 -> BILL NO. 1 - GENERAL ITEMS | G51: =G23 -> 16640
C55: =C40 -> BILL NO. 2 - RESHAPING | G55: =G41 -> 180980
I56: 120000
C58: =C48 -> GRAND SUMMARY
C59: TOTAL | G59: =SUM(G49:G58) -> 197620 | I59: 98982
B62: EMERGENCY DREDGING OF KANKAN RIVER/ STREAM IN ATIWA WEST DISTRICT
B63: ITEM | C63: DESCRIPTION | D63: UNIT | E63: QTY | F63: RATE | G63: AMOUNT
B64: CODE | F64: ( GH¢) | G64: ( GH¢)
C66: BILL NO. 1 - GENERAL ITEMS
C68: Contractual Requirements
B69: A290 | C69: Provide progress photographs (before, during and after) | D69: Item | E69: Sum | G69: 300
C75: =+C66 -> BILL NO. 1 - GENERAL ITEMS
C76: CARRIED TO GRAND SUMMARY | G76: =SUM(G68:G75) -> 300
B79: ITEM | C79: DESCRIPTION | D79: UNIT | E79: QTY | F79: RATE GH¢ | G79: AMOUNT GH¢
C80: BILL NO. 2 - DREDGING
B82: D100 | C82: Clear site of light bush | D82: m² | F82: 0.8 | G82: =+F82*E82 -> 0
B85: E550 | C85: Dredge river/stream channel to remove silt and spread off bank | D85: m³ | E85: =ROUND(3000*8*1.1,0) -> 26400 | F85: 35 | G85: =+F85*E85 -> 924000
C91: =C80 -> BILL NO. 2 - DREDGING
C92: CARRIED TO GRAND SUMMARY | G92: =SUM(G81:G91) -> 924000
B96: =B62 -> EMERGENCY DREDGING OF KANKAN RIVER/ STREAM IN ATIWA WEST DISTRICT
B97: ITEM | C97: DESCRIPTION | D97: UNIT | E97: QTY | F97: RATE GH¢ | G97: AMOUNT GH¢
C99: SUMMARY
C102: =C75 -> BILL NO. 1 - GENERAL ITEMS | G102: =G76 -> 300
C106: =C91 -> BILL NO. 2 - DREDGING | G106: =G92 -> 924000
C112: =C99 -> SUMMARY
C113: CARRIED TO GRAND SUMMARY | G113: =SUM(G100:G112) -> 924300
B117: EMERGENCY DREDGING OF AKOTUANIE RIVER/ STREAM IN ATIWA WEST DISTRICT
B118: ITEM | C118: DESCRIPTION | D118: UNIT | E118: QTY | F118: RATE | G118: AMOUNT
B119: CODE | F119: ( GH¢) | G119: ( GH¢)
C121: BILL NO. 1 - GENERAL ITEMS
C123: Contractual Requirements
B124: A290 | C124: Provide progress photographs (before, during and after) | D124: Item | E124: Sum | G124: 150
C130: =+C121 -> BILL NO. 1 - GENERAL ITEMS
C131: CARRIED TO GRAND SUMMARY | G131: =SUM(G123:G130) -> 150
B134: ITEM | C134: DESCRIPTION | D134: UNIT | E134: QTY | F134: RATE GH¢ | G134: AMOUNT GH¢
C135: BILL NO. 2 - DREDGING
B137: D100 | C137: Clear site of light bush | D137: m² | F137: 0.8 | G137: =+F137*E137 -> 0
B140: E550 | C140: Dredge river/stream channel to remove silt and spread off bank | D140: m³ | E140: =ROUND(1000*5.8*0.8,0) -> 4640 | F140: 35 | G140: =+F140*E140 -> 162400
C146: =C135 -> BILL NO. 2 - DREDGING
C147: CARRIED TO GRAND SUMMARY | G147: =SUM(G136:G146) -> 162400
B151: =B117 -> EMERGENCY DREDGING OF AKOTUANIE RIVER/ STREAM IN ATIWA WEST DISTRICT
B152: ITEM | C152: DESCRIPTION | D152: UNIT | E152: QTY | F152: RATE GH¢ | G152: AMOUNT GH¢
C154: SUMMARY
C157: =C130 -> BILL NO. 1 - GENERAL ITEMS | G157: =G131 -> 150
C161: =C146 -> BILL NO. 2 - DREDGING | G161: =G147 -> 162400
C167: =C154 -> SUMMARY
C168: CARRIED TO GRAND SUMMARY | G168: =SUM(G155:G167) -> 162550
B171: EMERGENCY DREDGING OF BABITRI RIVER/ STREAM IN ATIWA WEST DISTRICT
B172: ITEM | C172: DESCRIPTION | D172: UNIT | E172: QTY | F172: RATE | G172: AMOUNT
B173: CODE | F173: ( GH¢) | G173: ( GH¢)
C175: BILL NO. 1 - GENERAL ITEMS
C177: Contractual Requirements
B178: A290 | C178: Provide progress photographs (before, during and after) | D178: Item | E178: Sum | G178: 200
C184: =+C175 -> BILL NO. 1 - GENERAL ITEMS
C185: CARRIED TO GRAND SUMMARY | G185: =SUM(G177:G184) -> 200
B188: ITEM | C188: DESCRIPTION | D188: UNIT | E188: QTY | F188: RATE GH¢ | G188: AMOUNT GH¢
C189: BILL NO. 2 - DREDGING
B191: D100 | C191: Clear site of light bush | D191: m² | F191: 0.8 | G191: =+F191*E191 -> 0
B194: E550 | C194: Dredge river/stream channel to remove silt and spread off bank | D194: m³ | E194: =ROUND(800*7.8*1,0) -> 6240 | F194: 35 | G194: =+F194*E194 -> 218400
C200: =C189 -> BILL NO. 2 - DREDGING
C201: CARRIED TO GRAND SUMMARY | G201: =SUM(G190:G200) -> 218400
B205: =B171 -> EMERGENCY DREDGING OF BABITRI RIVER/ STREAM IN ATIWA WEST DISTRICT
B206: ITEM | C206: DESCRIPTION | D206: UNIT | E206: QTY | F206: RATE GH¢ | G206: AMOUNT GH¢
C208: SUMMARY
C211: =C184 -> BILL NO. 1 - GENERAL ITEMS | G211: =G185 -> 200
C215: =C200 -> BILL NO. 2 - DREDGING | G215: =G201 -> 218400
C221: =C208 -> SUMMARY
C222: CARRIED TO GRAND SUMMARY | G222: =SUM(G209:G221) -> 218600
B225: EMERGENCY DREDGING OF AKPETESUA RIVER/ STREAM IN ATIWA WEST DISTRICT
B226: ITEM | C226: DESCRIPTION | D226: UNIT | E226: QTY | F226: RATE | G226: AMOUNT
B227: CODE | F227: ( GH¢) | G227: ( GH¢)
C229: BILL NO. 1 - GENERAL ITEMS
C231: Contractual Requirements
B232: A290 | C232: Provide progress photographs (before, during and after) | D232: Item | E232: Sum | G232: 200
...

Sheet bill (2)
B1: DEPARTMENT OF URBAN ROADS,EASTERN REGION
B4: =bill!B3 -> GRADING AND SPOT IMPROVEMENT OF ROAD NETWORK ON SOME SELECTED ELECTORAL AREAS WITHIN THE MUNICIPALITY
B5: ITEM | C5: DESCRIPTION | D5: UNIT | E5: QTY | F5: RATE | G5: AMOUNT
B6: CODE | F6: ( GH¢) | G6: ( GH¢)
C8: BILL NO. 1 - GENERAL ITEMS
C10: Contractual Requirements
B11: A221.1 | C11: Provide Engineer's Facilities | D11: P.sum | E11: Item | G11: 10000 | I11: =G59*0.3*0.03 -> 1668.006
B13: A221.2 | C13: Percentage adjustment to A221.1 | D13: % | E13: Item | F13: 25 | G13: =G11*F13% -> 2500
B15: A272 | C15: Provide and maintain traffic safety signs and systems during | D15: Sum | E15: Item | G15: 1200
C16: construction
B18: A420.1 | C18: Allow for reinstatement and relocation of services | D18: P.sum | E18: Item | G18: 1200
B20: A420.2 | C20: Percentage adjustment to A420.1 | D20: % | E20: Item | F20: 30 | G20: =G18*F20% -> 360
C22: =+C8 -> BILL NO. 1 - GENERAL ITEMS
C23: CARRIED TO GRAND SUMMARY | G23: =SUM(G10:G22) -> 15260
B26: ITEM | C26: DESCRIPTION | D26: UNIT | E26: QTY | F26: RATE GH¢ | G26: AMOUNT GH¢
C27: BILL NO. 2 - RESHAPING
B29: E522 | C29: Blade and reshape existing potholed or damaged gravel/ earth road to crossfall | D29: m² | E29: =bill!E28 -> 13860 | F29: 6.8 | G29: =+F29*E29 -> 94248
B31: E624 | C31: Water and compact graded surfaces | D31: m² | E31: =E29 -> 13860 | F31: 1.4 | G31: =+F31*E31 -> 19404
B33: E615 | C33: Provide, lay and compact approved imported gravel fill material | D33: m³ | E33: =bill!E32 -> 100 | F33: 19 | G33: =+F33*E33 -> 1900
B35: E900.1 | C35: Extra over for haulage of imported gravel fill material (1-20km) | D35: m³km | E35: =bill!E34 -> 2208 | F35: 9 | G35: =+F35*E35 -> 19872
B37: K463.1 | C37: Re-excavate v- section earth ditch | D37: m | E37: =E29 -> 13860 | F37: 2.5 | G37: =+F37*E37 -> 34650
C40: =C27 -> BILL NO. 2 - RESHAPING
C41: CARRIED TO GRAND SUMMARY | G41: =SUM(G28:G40) -> 170074
B45: =B4 -> GRADING AND SPOT IMPROVEMENT OF ROAD NETWORK ON SOME SELECTED ELECTORAL AREAS WITHIN THE MUNICIPALITY
B46: ITEM | C46: DESCRIPTION | D46: UNIT | E46: QTY | F46: RATE GH¢ | G46: AMOUNT GH¢
C48: GRAND SUMMARY
C51: =C22 -> BILL NO. 1 - GENERAL ITEMS | G51: =G23 -> 15260
C55: =C40 -> BILL NO. 2 - RESHAPING | G55: =G41 -> 170074
I56: 120000
C58: =C48 -> GRAND SUMMARY
C59: TOTAL | G59: =SUM(G49:G58) -> 185334 | I59: 98300
B62: EMERGENCY DREDGING OF KANKAN RIVER/ STREAM IN ATIWA WEST DISTRICT
B63: ITEM | C63: DESCRIPTION | D63: UNIT | E63: QTY | F63: RATE | G63: AMOUNT
B64: CODE | F64: ( GH¢) | G64: ( GH¢)
C66: BILL NO. 1 - GENERAL ITEMS
C68: Contractual Requirements
B69: A290 | C69: Provide progress photographs (before, during and after) | D69: Item | E69: Sum | G69: 300
C75: =+C66 -> BILL NO. 1 - GENERAL ITEMS
C76: CARRIED TO GRAND SUMMARY | G76: =SUM(G68:G75) -> 300
B79: ITEM | C79: DESCRIPTION | D79: UNIT | E79: QTY | F79: RATE GH¢ | G79: AMOUNT GH¢
C80: BILL NO. 2 - DREDGING
B82: D100 | C82: Clear site of light bush | D82: m² | F82: 0.8 | G82: =+F82*E82 -> 0
B85: E550 | C85: Dredge river/stream channel to remove silt and spread off bank | D85: m³ | E85: =ROUND(3000*8*1.1,0) -> 26400 | F85: 35 | G85: =+F85*E85 -> 924000
C91: =C80 -> BILL NO. 2 - DREDGING
C92: CARRIED TO GRAND SUMMARY | G92: =SUM(G81:G91) -> 924000
B96: =B62 -> EMERGENCY DREDGING OF KANKAN RIVER/ STREAM IN ATIWA WEST DISTRICT
B97: ITEM | C97: DESCRIPTION | D97: UNIT | E97: QTY | F97: RATE GH¢ | G97: AMOUNT GH¢
C99: SUMMARY
C102: =C75 -> BILL NO. 1 - GENERAL ITEMS | G102: =G76 -> 300
C106: =C91 -> BILL NO. 2 - DREDGING | G106: =G92 -> 924000
C112: =C99 -> SUMMARY
C113: CARRIED TO GRAND SUMMARY | G113: =SUM(G100:G112) -> 924300
B117: EMERGENCY DREDGING OF AKOTUANIE RIVER/ STREAM IN ATIWA WEST DISTRICT
B118: ITEM | C118: DESCRIPTION | D118: UNIT | E118: QTY | F118: RATE | G118: AMOUNT
B119: CODE | F119: ( GH¢) | G119: ( GH¢)
C121: BILL NO. 1 - GENERAL ITEMS
C123: Contractual Requirements
B124: A290 | C124: Provide progress photographs (before, during and after) | D124: Item | E124: Sum | G124: 150
C130: =+C121 -> BILL NO. 1 - GENERAL ITEMS
C131: CARRIED TO GRAND SUMMARY | G131: =SUM(G123:G130) -> 150
B134: ITEM | C134: DESCRIPTION | D134: UNIT | E134: QTY | F134: RATE GH¢ | G134: AMOUNT GH¢
C135: BILL NO. 2 - DREDGING
B137: D100 | C137: Clear site of light bush | D137: m² | F137: 0.8 | G137: =+F137*E137 -> 0
B140: E550 | C140: Dredge river/stream channel to remove silt and spread off bank | D140: m³ | E140: =ROUND(1000*5.8*0.8,0) -> 4640 | F140: 35 | G140: =+F140*E140 -> 162400
C146: =C135 -> BILL NO. 2 - DREDGING
C147: CARRIED TO GRAND SUMMARY | G147: =SUM(G136:G146) -> 162400
B151: =B117 -> EMERGENCY DREDGING OF AKOTUANIE RIVER/ STREAM IN ATIWA WEST DISTRICT
B152: ITEM | C152: DESCRIPTION | D152: UNIT | E152: QTY | F152: RATE GH¢ | G152: AMOUNT GH¢
C154: SUMMARY
C157: =C130 -> BILL NO. 1 - GENERAL ITEMS | G157: =G131 -> 150
C161: =C146 -> BILL NO. 2 - DREDGING | G161: =G147 -> 162400
C167: =C154 -> SUMMARY
C168: CARRIED TO GRAND SUMMARY | G168: =SUM(G155:G167) -> 162550
B171: EMERGENCY DREDGING OF BABITRI RIVER/ STREAM IN ATIWA WEST DISTRICT
B172: ITEM | C172: DESCRIPTION | D172: UNIT | E172: QTY | F172: RATE | G172: AMOUNT
B173: CODE | F173: ( GH¢) | G173: ( GH¢)
C175: BILL NO. 1 - GENERAL ITEMS
C177: Contractual Requirements
B178: A290 | C178: Provide progress photographs (before, during and after) | D178: Item | E178: Sum | G178: 200
C184: =+C175 -> BILL NO. 1 - GENERAL ITEMS
C185: CARRIED TO GRAND SUMMARY | G185: =SUM(G177:G184) -> 200
B188: ITEM | C188: DESCRIPTION | D188: UNIT | E188: QTY | F188: RATE GH¢ | G188: AMOUNT GH¢
C189: BILL NO. 2 - DREDGING
B191: D100 | C191: Clear site of light bush | D191: m² | F191: 0.8 | G191: =+F191*E191 -> 0
B194: E550 | C194: Dredge river/stream channel to remove silt and spread off bank | D194: m³ | E194: =ROUND(800*7.8*1,0) -> 6240 | F194: 35 | G194: =+F194*E194 -> 218400
C200: =C189 -> BILL NO. 2 - DREDGING
C201: CARRIED TO GRAND SUMMARY | G201: =SUM(G190:G200) -> 218400
B205: =B171 -> EMERGENCY DREDGING OF BABITRI RIVER/ STREAM IN ATIWA WEST DISTRICT
B206: ITEM | C206: DESCRIPTION | D206: UNIT | E206: QTY | F206: RATE GH¢ | G206: AMOUNT GH¢
C208: SUMMARY
C211: =C184 -> BILL NO. 1 - GENERAL ITEMS | G211: =G185 -> 200
C215: =C200 -> BILL NO. 2 - DREDGING | G215: =G201 -> 218400
C221: =C208 -> SUMMARY
C222: CARRIED TO GRAND SUMMARY | G222: =SUM(G209:G221) -> 218600
B225: EMERGENCY DREDGING OF AKPETESUA RIVER/ STREAM IN ATIWA WEST DISTRICT
B226: ITEM | C226: DESCRIPTION | D226: UNIT | E226: QTY | F226: RATE | G226: AMOUNT
B227: CODE | F227: ( GH¢) | G227: ( GH¢)
C229: BILL NO. 1 - GENERAL ITEMS
C231: Contractual Requirements
B232: A290 | C232: Provide progress photographs (before, during and after) | D232: Item | E232: Sum | G232: 200
...

Sheet bill
B1: NEW JUABEN NORTH MUNICIPAL ASSEMBLY,KOFORIDUA E/R.
B3: GRADING AND SPOT IMPROVEMENT OF ROAD NETWORK ON SOME SELECTED ELECTORAL AREAS WITHIN THE MUNICIPALITY
B4: ITEM | C4: DESCRIPTION | D4: UNIT | E4: QTY | F4: RATE | G4: AMOUNT
B5: CODE | F5: ( GH¢) | G5: ( GH¢)
C7: BILL NO. 1 - GENERAL ITEMS
C9: Contractual Requirements
B10: A221.1 | C10: Provide Engineer's Facilities | D10: P.sum | E10: Item | G10: 10000
B12: A221.2 | C12: Percentage adjustment to A221.1 | D12: % | E12: Item | F12: 25 | G12: =G10*F12% -> 2500
B14: A272 | C14: Provide and maintain traffic safety signs and systems during | D14: Sum | E14: Item | G14: =215+975 -> 1190
C15: construction
B17: A420.1 | C17: Allow for reinstatement and relocation of services | D17: P.sum | E17: Item | G17: 1000
B19: A420.2 | C19: Percentage adjustment to A420.1 | D19: % | E19: Item | F19: 30 | G19: =G17*F19% -> 300
C21: =+C7 -> BILL NO. 1 - GENERAL ITEMS
C22: CARRIED TO GRAND SUMMARY | G22: =SUM(G9:G21) -> 14990
B25: ITEM | C25: DESCRIPTION | D25: UNIT | E25: QTY | F25: RATE GH¢ | G25: AMOUNT GH¢
C26: BILL NO. 2 - RESHAPING
B28: E522 | C28: Blade and reshape existing potholed or damaged gravel/ earth road to crossfall | D28: m² | E28: 13860 | F28: 6.5 | G28: =+F28*E28 -> 90090
B30: E624 | C30: Water and compact graded surfaces | D30: m² | E30: =E28 -> 13860 | F30: 1.2 | G30: =+F30*E30 -> 16632
B32: E615 | C32: Provide, lay and compact approved imported gravel fill material | D32: m³ | E32: 100 | F32: 18 | G32: =+F32*E32 -> 1800
B34: E900.1 | C34: Extra over for haulage of imported gravel fill material (1-20km) | D34: m³km | E34: 2208 | F34: 8.5 | G34: =+F34*E34 -> 18768
B36: K463.1 | C36: Re-excavate v- section earth ditch | D36: m | E36: =E28 -> 13860 | F36: 2 | G36: =+F36*E36 -> 27720
C39: =C26 -> BILL NO. 2 - RESHAPING
C40: CARRIED TO GRAND SUMMARY | G40: =SUM(G27:G39) -> 155010
B44: =B3 -> GRADING AND SPOT IMPROVEMENT OF ROAD NETWORK ON SOME SELECTED ELECTORAL AREAS WITHIN THE MUNICIPALITY
B45: ITEM | C45: DESCRIPTION | D45: UNIT | E45: QTY | F45: RATE GH¢ | G45: AMOUNT GH¢
C47: GRAND SUMMARY
C50: =C21 -> BILL NO. 1 - GENERAL ITEMS | G50: =G22 -> 14990
C54: =C39 -> BILL NO. 2 - RESHAPING | G54: =G40 -> 155010
I55: 120000 | K55: =G58-170000 -> 0
C57: =C47 -> GRAND SUMMARY
C58: TOTAL | G58: =SUM(G48:G57) -> 170000 | I58: 97950
B61: EMERGENCY DREDGING OF KANKAN RIVER/ STREAM IN ATIWA WEST DISTRICT
B62: ITEM | C62: DESCRIPTION | D62: UNIT | E62: QTY | F62: RATE | G62: AMOUNT
B63: CODE | F63: ( GH¢) | G63: ( GH¢)
C65: BILL NO. 1 - GENERAL ITEMS
C67: Contractual Requirements
B68: A290 | C68: Provide progress photographs (before, during and after) | D68: Item | E68: Sum | G68: 300
C74: =+C65 -> BILL NO. 1 - GENERAL ITEMS
C75: CARRIED TO GRAND SUMMARY | G75: =SUM(G67:G74) -> 300
B78: ITEM | C78: DESCRIPTION | D78: UNIT | E78: QTY | F78: RATE GH¢ | G78: AMOUNT GH¢
C79: BILL NO. 2 - DREDGING
B81: D100 | C81: Clear site of light bush | D81: m² | F81: 0.8 | G81: =+F81*E81 -> 0
B84: E550 | C84: Dredge river/stream channel to remove silt and spread off bank | D84: m³ | E84: =ROUND(3000*8*1.1,0) -> 26400 | F84: 35 | G84: =+F84*E84 -> 924000
C90: =C79 -> BILL NO. 2 - DREDGING
C91: CARRIED TO GRAND SUMMARY | G91: =SUM(G80:G90) -> 924000
B95: =B61 -> EMERGENCY DREDGING OF KANKAN RIVER/ STREAM IN ATIWA WEST DISTRICT
B96: ITEM | C96: DESCRIPTION | D96: UNIT | E96: QTY | F96: RATE GH¢ | G96: AMOUNT GH¢
C98: SUMMARY
C101: =C74 -> BILL NO. 1 - GENERAL ITEMS | G101: =G75 -> 300
C105: =C90 -> BILL NO. 2 - DREDGING | G105: =G91 -> 924000
C111: =C98 -> SUMMARY
C112: CARRIED TO GRAND SUMMARY | G112: =SUM(G99:G111) -> 924300
B116: EMERGENCY DREDGING OF AKOTUANIE RIVER/ STREAM IN ATIWA WEST DISTRICT
B117: ITEM | C117: DESCRIPTION | D117: UNIT | E117: QTY | F117: RATE | G117: AMOUNT
B118: CODE | F118: ( GH¢) | G118: ( GH¢)
C120: BILL NO. 1 - GENERAL ITEMS
C122: Contractual Requirements
B123: A290 | C123: Provide progress photographs (before, during and after) | D123: Item | E123: Sum | G123: 150
C129: =+C120 -> BILL NO. 1 - GENERAL ITEMS
C130: CARRIED TO GRAND SUMMARY | G130: =SUM(G122:G129) -> 150
B133: ITEM | C133: DESCRIPTION | D133: UNIT | E133: QTY | F133: RATE GH¢ | G133: AMOUNT GH¢
C134: BILL NO. 2 - DREDGING
B136: D100 | C136: Clear site of light bush | D136: m² | F136: 0.8 | G136: =+F136*E136 -> 0
B139: E550 | C139: Dredge river/stream channel to remove silt and spread off bank | D139: m³ | E139: =ROUND(1000*5.8*0.8,0) -> 4640 | F139: 35 | G139: =+F139*E139 -> 162400
C145: =C134 -> BILL NO. 2 - DREDGING
C146: CARRIED TO GRAND SUMMARY | G146: =SUM(G135:G145) -> 162400
B150: =B116 -> EMERGENCY DREDGING OF AKOTUANIE RIVER/ STREAM IN ATIWA WEST DISTRICT
B151: ITEM | C151: DESCRIPTION | D151: UNIT | E151: QTY | F151: RATE GH¢ | G151: AMOUNT GH¢
C153: SUMMARY
C156: =C129 -> BILL NO. 1 - GENERAL ITEMS | G156: =G130 -> 150
C160: =C145 -> BILL NO. 2 - DREDGING | G160: =G146 -> 162400
C166: =C153 -> SUMMARY
C167: CARRIED TO GRAND SUMMARY | G167: =SUM(G154:G166) -> 162550
B170: EMERGENCY DREDGING OF BABITRI RIVER/ STREAM IN ATIWA WEST DISTRICT
B171: ITEM | C171: DESCRIPTION | D171: UNIT | E171: QTY | F171: RATE | G171: AMOUNT
B172: CODE | F172: ( GH¢) | G172: ( GH¢)
C174: BILL NO. 1 - GENERAL ITEMS
C176: Contractual Requirements
B177: A290 | C177: Provide progress photographs (before, during and after) | D177: Item | E177: Sum | G177: 200
C183: =+C174 -> BILL NO. 1 - GENERAL ITEMS
C184: CARRIED TO GRAND SUMMARY | G184: =SUM(G176:G183) -> 200
B187: ITEM | C187: DESCRIPTION | D187: UNIT | E187: QTY | F187: RATE GH¢ | G187: AMOUNT GH¢
C188: BILL NO. 2 - DREDGING
B190: D100 | C190: Clear site of light bush | D190: m² | F190: 0.8 | G190: =+F190*E190 -> 0
B193: E550 | C193: Dredge river/stream channel to remove silt and spread off bank | D193: m³ | E193: =ROUND(800*7.8*1,0) -> 6240 | F193: 35 | G193: =+F193*E193 -> 218400
C199: =C188 -> BILL NO. 2 - DREDGING
C200: CARRIED TO GRAND SUMMARY | G200: =SUM(G189:G199) -> 218400
B204: =B170 -> EMERGENCY DREDGING OF BABITRI RIVER/ STREAM IN ATIWA WEST DISTRICT
B205: ITEM | C205: DESCRIPTION | D205: UNIT | E205: QTY | F205: RATE GH¢ | G205: AMOUNT GH¢
C207: SUMMARY
C210: =C183 -> BILL NO. 1 - GENERAL ITEMS | G210: =G184 -> 200
C214: =C199 -> BILL NO. 2 - DREDGING | G214: =G200 -> 218400
C220: =C207 -> SUMMARY
C221: CARRIED TO GRAND SUMMARY | G221: =SUM(G208:G220) -> 218600
B224: EMERGENCY DREDGING OF AKPETESUA RIVER/ STREAM IN ATIWA WEST DISTRICT
B225: ITEM | C225: DESCRIPTION | D225: UNIT | E225: QTY | F225: RATE | G225: AMOUNT
B226: CODE | F226: ( GH¢) | G226: ( GH¢)
C228: BILL NO. 1 - GENERAL ITEMS
C230: Contractual Requirements
B231: A290 | C231: Provide progress photographs (before, during and after) | D231: Item | E231: Sum | G231: 200
...
