Workbook
Name __tot12: '[1]Bill No. 6'!#REF!
Name __tot12: '[1]Bill No. 6'!#REF!
Name __tot12: '[1]Bill No. 6'!#REF!
Name __tot12: '[1]Bill No. 6'!#REF!
Name __tot12: '[2]Bill No. 6'!#REF!
Name _27Certificate_Printout: #REF!
Name _27Certificate_Printout: #REF!
Name _27Certificate_Printout: #REF!
Name _27Certificate_Printout: #REF!
Name _27Certificate_Printout: #REF!
Name _54Certificate_Turnaround: #REF!
Name _54Certificate_Turnaround: #REF!
Name _54Certificate_Turnaround: #REF!
Name _54Certificate_Turnaround: #REF!
Name _54Certificate_Turnaround: #REF!
Name _l3input: #REF!
Name _l3input: #REF!
Name _l3input: #REF!
Name _l3input: #REF!
Name _l3input: #REF!
Name _l3input2: #REF!
Name _l3input2: #REF!
Name _l3input2: #REF!
Name _l3input2: #REF!
Name _l3input2: #REF!
Name _l3inputD: #REF!
Name _l3inputD: #REF!
Name _l3inputD: #REF!
Name _l3inputD: #REF!
Name _l3inputD: #REF!
Name _tot1: #REF!
Name _tot1: #REF!
Name _tot1: #REF!
Name _tot1: #REF!
Name _tot1: #REF!
Name _tot10: #REF!
Name _tot10: #REF!
Name _tot10: #REF!
Name _tot10: #REF!
Name _tot10: #REF!
Name _tot11: #REF!
Name _tot11: #REF!
Name _tot11: #REF!
Name _tot11: #REF!
Name _tot11: #REF!
Name _tot12: #REF!
Name _tot12: #REF!
Name _tot12: #REF!
Name _tot12: #REF!
Name _tot12: #REF!
Name _TOT1234: #REF!
Name _TOT1234: #REF!
Name _TOT1234: #REF!
Name _TOT1234: #REF!
Name _TOT1234: #REF!
Name _tot2: #REF!
Name _tot2: #REF!
Name _tot2: #REF!
Name _tot2: #REF!
Name _tot2: #REF!

Sheet Blank
B1: DEPARTMENT OF URBAN ROADS,EASTERN REGION
B3: ='bill (3)'!B4:G4 -> GRADING AND SPOT IMPROVEMENT OF ROAD NETWORK ON SOME SELECTED ELECTORAL AREAS WITHIN THE MUNICIPALITY
B4: ITEM | C4: DESCRIPTION | D4: UNIT | E4: QTY | F4: RATE | G4: AMOUNT
B5: CODE | F5: ( GH¢) | G5: ( GH¢)
C7: BILL NO. 1 - GENERAL ITEMS
C9: Contractual Requirements
B10: A221.1 | C10: Provide Engineer's Facilities | D10: P.sum | E10: Item | I10: =G58*0.3*0.03 -> 0
B12: A221.2 | C12: Percentage adjustment to A221.1 | D12: % | E12: Item
B14: A272 | C14: Provide and maintain traffic safety signs and systems during | D14: Sum | E14: Item
C15: construction | N15: =350+200+400 -> 950
B17: A420.1 | C17: Allow for reinstatement and relocation of services | D17: P.sum | E17: Item
B19: A420.2 | C19: Percentage adjustment to A420.1 | D19: % | E19: Item
C21: =+C7 -> BILL NO. 1 - GENERAL ITEMS
C22: CARRIED TO GRAND SUMMARY
B25: ITEM | C25: DESCRIPTION | D25: UNIT | E25: QTY | F25: RATE GH¢ | G25: AMOUNT GH¢
C26: BILL NO. 2 - RESHAPING
B28: E522 | C28: Blade and reshape existing potholed or damaged gravel/ earth road to crossfall | D28: m² | E28: =bill!E28 -> 13860
B30: E624 | C30: Water and compact graded surfaces | D30: m² | E30: =E28 -> 13860
B32: E615 | C32: Provide, lay and compact approved imported gravel fill material | D32: m³ | E32: =bill!E32 -> 100
B34: E900.1 | C34: Extra over for haulage of imported gravel fill material (1-20km) | D34: m³km | E34: =bill!E34 -> 2208
B36: K463.1 | C36: Re-excavate v- section earth ditch | D36: m | E36: =E28 -> 13860
C39: =C26 -> BILL NO. 2 - RESHAPING
C40: CARRIED TO GRAND SUMMARY
B44: =B3 -> GRADING AND SPOT IMPROVEMENT OF ROAD NETWORK ON SOME SELECTED ELECTORAL AREAS WITHIN THE MUNICIPALITY
B45: ITEM | C45: DESCRIPTION | D45: UNIT | E45: QTY | F45: RATE GH¢ | G45: AMOUNT GH¢
C47: GRAND SUMMARY
C50: =C21 -> BILL NO. 1 - GENERAL ITEMS
C54: =C39 -> BILL NO. 2 - RESHAPING
I55: 120000
C57: =C47 -> GRAND SUMMARY
C58: TOTAL | I58: 201800
B61: EMERGENCY DREDGING OF KANKAN RIVER/ STREAM IN ATIWA WEST DISTRICT
B62: ITEM | C62: DESCRIPTION | D62: UNIT | E62: QTY | F62: RATE | G62: AMOUNT
B63: CODE | F63: ( GH¢) | G63: ( GH¢)
C65: BILL NO. 1 - GENERAL ITEMS
C67: Contractual Requirements
B68: A290 | C68: Provide progress photographs (before, during and after) | D68: Item | E68: Sum | G68: 300
C74: =+C65 -> BILL NO. 1 - GENERAL ITEMS
C75: CARRIED TO GRAND SUMMARY | G75: =SUM(G67:G74) -> 300
B78: ITEM | C78: DESCRIPTION | D78: UNIT | E78: QTY | F78: RATE GH¢ | G78: AMOUNT GH¢
...

Sheet bill (3)
B1: DEPARTMENT OF URBAN ROADS,EASTERN REGION
B4: ='bill (2)'!B4:G4 -> GRADING AND SPOT IMPROVEMENT OF ROAD NETWORK ON SOME SELECTED ELECTORAL AREAS WITHIN THE MUNICIPALITY
B5: ITEM | C5: DESCRIPTION | D5: UNIT | E5: QTY | F5: RATE | G5: AMOUNT
B6: CODE | F6: ( GH¢) | G6: ( GH¢)
C8: BILL NO. 1 - GENERAL ITEMS
C10: Contractual Requirements
B11: A221.1 | C11: Provide Engineer's Facilities | D11: P.sum | E11: Item | G11: 11000 | I11: =G59*0.3*0.03 -> 1778.58
B13: A221.2 | C13: Percentage adjustment to A221.1 | D13: % | E13: Item | F13: 25 | G13: =G11*F13% -> 2750
B15: A272 | C15: Provide and maintain traffic safety signs and systems during | D15: Sum | E15: Item | G15: 1200
C16: construction
B18: A420.1 | C18: Allow for reinstatement and relocation of services | D18: P.sum | E18: Item | G18: 1300
B20: A420.2 | C20: Percentage adjustment to A420.1 | D20: % | E20: Item | F20: 30 | G20: =G18*F20% -> 390
C22: =+C8 -> BILL NO. 1 - GENERAL ITEMS
C23: CARRIED TO GRAND SUMMARY | G23: =SUM(G10:G22) -> 16640
B26: ITEM | C26: DESCRIPTION | D26: UNIT | E26: QTY | F26: RATE GH¢ | G26: AMOUNT GH¢
C27: BILL NO. 2 - RESHAPING
B29: E522 | C29: Blade and reshape existing potholed or damaged gravel/ earth road to crossfall | D29: m² | E29: =bill!E28 -> 13860 | F29: 7 | G29: =+F29*E29 -> 97020
B31: E624 | C31: Water and compact graded surfaces | D31: m² | E31: =E29 -> 13860 | F31: 1.6 | G31: =+F31*E31 -> 22176
B33: E615 | C33: Provide, lay and compact approved imported gravel fill material | D33: m³ | E33: =bill!E32 -> 100 | F33: 20 | G33: =+F33*E33 -> 2000
B35: E900.1 | C35: Extra over for haulage of imported gravel fill material (1-20km) | D35: m³km | E35: =bill!E34 -> 2208 | F35: 9.5 | G35: =+F35*E35 -> 20976
B37: K463.1 | C37: Re-excavate v- section earth ditch | D37: m | E37: =E29 -> 13860 | F37: 2.8 | G37: =+F37*E37 -> 38808
C40: =C27 -> BILL NO. 2 - RESHAPING
C41: CARRIED TO GRAND SUMMARY | G41: =SUM(G28:G40) -> 180980
B45: =B4 -> GRADING AND SPOT IMPROVEMENT OF ROAD NETWORK ON SOME SELECTED ELECTORAL AREAS WITHIN THE MUNICIPALITY
B46: ITEM | C46: DESCRIPTION | D46: UNIT | E46: QTY | F46: RATE GH¢ | G46: AMOUNT GH¢
C48: GRAND SUMMARY
C51: =C22 -> BILL NO. 1 - GENERAL ITEMS | G51: =G23 -> 16640
C55: =C40 -> BILL NO. 2 - RESHAPING | G55: =G41 -> 180980
I56: 120000
C58: =C48 -> GRAND SUMMARY
C59: TOTAL | G59: =SUM(G49:G58) -> 197620 | I59: 98982
B62: EMERGENCY DREDGING OF KANKAN RIVER/ STREAM IN ATIWA WEST DISTRICT
B63: ITEM | C63: DESCRIPTION | D63: UNIT | E63: QTY | F63: RATE | G63: AMOUNT
B64: CODE | F64: ( GH¢) | G64: ( GH¢)
C66: BILL NO. 1 - GENERAL ITEMS
C68: Contractual Requirements
B69: A290 | C69: Provide progress photographs (before, during and after) | D69: Item | E69: Sum | G69: 300
C75: =+C66 -> BILL NO. 1 - GENERAL ITEMS
C76: CARRIED TO GRAND SUMMARY | G76: =SUM(G68:G75) -> 300
B79: ITEM | C79: DESCRIPTION | D79: UNIT | E79: QTY | F79: RATE GH¢ | G79: AMOUNT GH¢
...

Sheet bill (2)
B1: DEPARTMENT OF URBAN ROADS,EASTERN REGION
B4: =bill!B3 -> GRADING AND SPOT IMPROVEMENT OF ROAD NETWORK ON SOME SELECTED ELECTORAL AREAS WITHIN THE MUNICIPALITY
B5: ITEM | C5: DESCRIPTION | D5: UNIT | E5: QTY | F5: RATE | G5: AMOUNT
B6: CODE | F6: ( GH¢) | G6: ( GH¢)
C8: BILL NO. 1 - GENERAL ITEMS
C10: Contractual Requirements
B11: A221.1 | C11: Provide Engineer's Facilities | D11: P.sum | E11: Item | G11: 10000 | I11: =G59*0.3*0.03 -> 1668.006
B13: A221.2 | C13: Percentage adjustment to A221.1 | D13: % | E13: Item | F13: 25 | G13: =G11*F13% -> 2500
B15: A272 | C15: Provide and maintain traffic safety signs and systems during | D15: Sum | E15: Item | G15: 1200
C16: construction
B18: A420.1 | C18: Allow for reinstatement and relocation of services | D18: P.sum | E18: Item | G18: 1200
B20: A420.2 | C20: Percentage adjustment to A420.1 | D20: % | E20: Item | F20: 30 | G20: =G18*F20% -> 360
C22: =+C8 -> BILL NO. 1 - GENERAL ITEMS
C23: CARRIED TO GRAND SUMMARY | G23: =SUM(G10:G22) -> 15260
B26: ITEM | C26: DESCRIPTION | D26: UNIT | E26: QTY | F26: RATE GH¢ | G26: AMOUNT GH¢
C27: BILL NO. 2 - RESHAPING
B29: E522 | C29: Blade and reshape existing potholed or damaged gravel/ earth road to crossfall | D29: m² | E29: =bill!E28 -> 13860 | F29: 6.8 | G29: =+F29*E29 -> 94248
B31: E624 | C31: Water and compact graded surfaces | D31: m² | E31: =E29 -> 13860 | F31: 1.4 | G31: =+F31*E31 -> 19404
B33: E615 | C33: Provide, lay and compact approved imported gravel fill material | D33: m³ | E33: =bill!E32 -> 100 | F33: 19 | G33: =+F33*E33 -> 1900
B35: E900.1 | C35: Extra over for haulage of imported gravel fill material (1-20km) | D35: m³km | E35: =bill!E34 -> 2208 | F35: 9 | G35: =+F35*E35 -> 19872
B37: K463.1 | C37: Re-excavate v- section earth ditch | D37: m | E37: =E29 -> 13860 | F37: 2.5 | G37: =+F37*E37 -> 34650
C40: =C27 -> BILL NO. 2 - RESHAPING
C41: CARRIED TO GRAND SUMMARY | G41: =SUM(G28:G40) -> 170074
B45: =B4 -> GRADING AND SPOT IMPROVEMENT OF ROAD NETWORK ON SOME SELECTED ELECTORAL AREAS WITHIN THE MUNICIPALITY
B46: ITEM | C46: DESCRIPTION | D46: UNIT | E46: QTY | F46: RATE GH¢ | G46: AMOUNT GH¢
C48: GRAND SUMMARY
C51: =C22 -> BILL NO. 1 - GENERAL ITEMS | G51: =G23 -> 15260
C55: =C40 -> BILL NO. 2 - RESHAPING | G55: =G41 -> 170074
I56: 120000
C58: =C48 -> GRAND SUMMARY
C59: TOTAL | G59: =SUM(G49:G58) -> 185334 | I59: 98300
B62: EMERGENCY DREDGING OF KANKAN RIVER/ STREAM IN ATIWA WEST DISTRICT
B63: ITEM | C63: DESCRIPTION | D63: UNIT | E63: QTY | F63: RATE | G63: AMOUNT
B64: CODE | F64: ( GH¢) | G64: ( GH¢)
C66: BILL NO. 1 - GENERAL ITEMS
C68: Contractual Requirements
B69: A290 | C69: Provide progress photographs (before, during and after) | D69: Item | E69: Sum | G69: 300
C75: =+C66 -> BILL NO. 1 - GENERAL ITEMS
C76: CARRIED TO GRAND SUMMARY | G76: =SUM(G68:G75) -> 300
B79: ITEM | C79: DESCRIPTION | D79: UNIT | E79: QTY | F79: RATE GH¢ | G79: AMOUNT GH¢
...

Sheet bill
B1: NEW JUABEN NORTH MUNICIPAL ASSEMBLY,KOFORIDUA E/R.
B3: GRADING AND SPOT IMPROVEMENT OF ROAD NETWORK ON SOME SELECTED ELECTORAL AREAS WITHIN THE MUNICIPALITY
B4: ITEM | C4: DESCRIPTION | D4: UNIT | E4: QTY | F4: RATE | G4: AMOUNT
B5: CODE | F5: ( GH¢) | G5: ( GH¢)
C7: BILL NO. 1 - GENERAL ITEMS
C9: Contractual Requirements
B10: A221.1 | C10: Provide Engineer's Facilities | D10: P.sum | E10: Item | G10: 10000
B12: A221.2 | C12: Percentage adjustment to A221.1 | D12: % | E12: Item | F12: 25 | G12: =G10*F12% -> 2500
B14: A272 | C14: Provide and maintain traffic safety signs and systems during | D14: Sum | E14: Item | G14: =215+975 -> 1190
C15: construction
B17: A420.1 | C17: Allow for reinstatement and relocation of services | D17: P.sum | E17: Item | G17: 1000
B19: A420.2 | C19: Percentage adjustment to A420.1 | D19: % | E19: Item | F19: 30 | G19: =G17*F19% -> 300
C21: =+C7 -> BILL NO. 1 - GENERAL ITEMS
C22: CARRIED TO GRAND SUMMARY | G22: =SUM(G9:G21) -> 14990
B25: ITEM | C25: DESCRIPTION | D25: UNIT | E25: QTY | F25: RATE GH¢ | G25: AMOUNT GH¢
C26: BILL NO. 2 - RESHAPING
B28: E522 | C28: Blade and reshape existing potholed or damaged gravel/ earth road to crossfall | D28: m² | E28: 13860 | F28: 6.5 | G28: =+F28*E28 -> 90090
B30: E624 | C30: Water and compact graded surfaces | D30: m² | E30: =E28 -> 13860 | F30: 1.2 | G30: =+F30*E30 -> 16632
B32: E615 | C32: Provide, lay and compact approved imported gravel fill material | D32: m³ | E32: 100 | F32: 18 | G32: =+F32*E32 -> 1800
B34: E900.1 | C34: Extra over for haulage of imported gravel fill material (1-20km) | D34: m³km | E34: 2208 | F34: 8.5 | G34: =+F34*E34 -> 18768
B36: K463.1 | C36: Re-excavate v- section earth ditch | D36: m | E36: =E28 -> 13860 | F36: 2 | G36: =+F36*E36 -> 27720
C39: =C26 -> BILL NO. 2 - RESHAPING
C40: CARRIED TO GRAND SUMMARY | G40: =SUM(G27:G39) -> 155010
B44: =B3 -> GRADING AND SPOT IMPROVEMENT OF ROAD NETWORK ON SOME SELECTED ELECTORAL AREAS WITHIN THE MUNICIPALITY
B45: ITEM | C45: DESCRIPTION | D45: UNIT | E45: QTY | F45: RATE GH¢ | G45: AMOUNT GH¢
C47: GRAND SUMMARY
C50: =C21 -> BILL NO. 1 - GENERAL ITEMS | G50: =G22 -> 14990
C54: =C39 -> BILL NO. 2 - RESHAPING | G54: =G40 -> 155010
I55: 120000 | K55: =G58-170000 -> 0
C57: =C47 -> GRAND SUMMARY
C58: TOTAL | G58: =SUM(G48:G57) -> 170000 | I58: 97950
B61: EMERGENCY DREDGING OF KANKAN RIVER/ STREAM IN ATIWA WEST DISTRICT
B62: ITEM | C62: DESCRIPTION | D62: UNIT | E62: QTY | F62: RATE | G62: AMOUNT
B63: CODE | F63: ( GH¢) | G63: ( GH¢)
C65: BILL NO. 1 - GENERAL ITEMS
C67: Contractual Requirements
B68: A290 | C68: Provide progress photographs (before, during and after) | D68: Item | E68: Sum | G68: 300
C74: =+C65 -> BILL NO. 1 - GENERAL ITEMS
C75: CARRIED TO GRAND SUMMARY | G75: =SUM(G67:G74) -> 300
B78: ITEM | C78: DESCRIPTION | D78: UNIT | E78: QTY | F78: RATE GH¢ | G78: AMOUNT GH¢
...
