Workbook
Name \a: #N/A
Name \m: #N/A
Name \P: #REF!
Name \P: #REF!
Name \P: #REF!
Name \S: '[1]SCHEDULE CARRIER SPA'!#REF!
Name \S: '[1]SCHEDULE CARRIER SPA'!#REF!
Name \S: '[1]SCHEDULE CARRIER SPA'!#REF!
Name \S: '[1]SCHEDULE CARRIER SPA'!#REF!
Name _: '[2]GRAPHIC BILL OF QUANTITIES'!#REF!
Name _: '[2]GRAPHIC BILL OF QUANTITIES'!#REF!
Name _: '[2]GRAPHIC BILL OF QUANTITIES'!#REF!
Name _: '[2]GRAPHIC BILL OF QUANTITIES'!#REF!
Name ___________________mh3: '[3]MH21-MH22'!#REF!
Name ____________tot2: #REF!
Name ___________tot2: #REF!
Name __________tot2: #REF!
Name _________tot2: #REF!
Name ________tot2: #REF!
Name _______tot2: #REF!
Name ______tot2: #REF!
Name _____tot2: #REF!
Name ____tot2: #REF!
Name ___ACC0320: #REF!
Name ___ACC0320: #REF!
Name ___ACC0320: #REF!
Name ___BAL0320: #REF!
Name ___BAL0320: #REF!
Name ___BAL0320: #REF!
Name ___BAL0344: #REF!
Name ___BAL0344: #REF!
Name ___BAL0344: #REF!
Name ___BAL0348: #REF!
Name ___BAL0348: #REF!
Name ___BAL0348: #REF!
Name ___BAL0360: #REF!
Name ___BAL0360: #REF!
Name ___BAL0360: #REF!
Name ___BAL0361: #REF!
Name ___BAL0361: #REF!
Name ___BAL0361: #REF!
Name ___BAL0367: #REF!
Name ___BAL0367: #REF!
Name ___BAL0367: #REF!
Name ___BAL0370: #REF!
Name ___BAL0370: #REF!
Name ___BAL0370: #REF!
Name ___BAL0375: #REF!
Name ___BAL0375: #REF!
Name ___BAL0375: #REF!
Name ___BAL0384: #REF!
Name ___BAL0384: #REF!
Name ___BAL0384: #REF!
Name ___BAL0385: #REF!
Name ___BAL0385: #REF!
Name ___BAL0385: #REF!
Name ___BAL0386: #REF!
Name ___BAL0386: #REF!
Name ___BAL0386: #REF!
Name ___BAL0387: #REF!

Sheet Cover Page
C9: RENOVATION OF NIA OFFICE PREMISES
C17: AT
C18: HOHOE OFFICE
C19: VOLTA REGION
C22: FOR
C23: NATIONAL IDENTIFICATION
C24: AUTHORITY
C30: BILLS OF QUANTITIES
G46: September, 2026

Sheet Table of Content
B3: TABLE OF CONTENT
H5: PAGE Nr
B8: BILL Nr. 1 - PRELIMINARIES ………………………………………………………………………………………. | H8: 1/1 - 1/2
B11: BILL Nr. 2 - MAIN BUILDING ………………………………………………………………. | H11: 2/1 - 2/12
B14: BILL Nr. 3 - EXTERNAL WORKS …………………………………………………………………. | H14: 3/1 - 3/9
B17: GENERAL SUMMARY ……………………………………………………………………………. | H17: GS / 1
B57: BILL Nr. 1 - PRELIMINARIES | J57: 2
B60: BILL Nr. 2 - MAIN BUILDING | J60: 3
B63: BILL Nr. 3 - EXTERNAL WORKS | J63: 4
B66: GENERAL SUMMARY | J66: 5

Sheet Bill Nr 1 - Prelims
A1: Item | B1: Description | C1: Qty | D1: Unit | E1: Rate | F1: Amount
F2: GH¢
B3: BILL Nr. 1 - PRELIMINARIES
B5: A10 PROJECT PARTICULARS
B7: Title of project and location
B9: RENOVATION OF OFFICE OFFICE PREMISES AT HOHOE, VOLTA REGION FOR NATIONAL IDENTIFICATION AUTHORITY
B12: A13 DESCRIPTION OF THE WORKS
B14: THE WORKS : The renovation of i. One Storey Commercial Building 12,060 x 8,040 x 3,700mm high at Roof level; ii External Works
B17: Schedule of Works
B19: i. Remove window louvre window, construct upstand to treat leakage
B20: and reinstate
B22: ii. Replace wooden front entrance door with glass door and install
B23: burglarproof
B25: iii. Replace all louvre carriers, window netting, missing & broken
... B51: xv. Install signage by roadside
F53: =IF(E53<>0, A53*E53, "")
B54: Carried to Collection | E54: =$F$2 -> GH¢ | F54: =(IF(SUM(F12:F53)>0, SUM(F12:F53), ""))
B59: A40 - 49 CONTRACTOR'S GENERAL COST ITEMS
B61: Allow for providing on site the underlisted required for
B62: execution of the works throughout the duration of the works;
A64: A | B64: Supervision (Agent or Foreman-in-Charge)
A65: B | B65: Progress Photographs
A66: C | B66: Setting Out of Works
A67: D | B67: Room for Meetings
A68: E | B68: Site Offices Generally
A69: F | B69: Toilet facilities
A70: G | B70: As-built drawing of finished building
A71: H | B71: Temporary Power for the Works
A72: J | B72: Temporary Lighting
A73: K | B73: Water for the Works
A74: L | B74: Site Safety and Health
A75: M | B75: Rubbish and Rubble disposal
... A89: AC | B89: Rubbish Disposal and Cleaning
F91: =IF(E91<>0, A91*E91, "")
B92: Carried to Collection | E92: =$F$2 -> GH¢ | F92: =(IF(SUM(F61:F91)>0, SUM(F61:F91), ""))
B96: COLLECTION
B98: Page Nr. 1/1 | F98: =F54
B100: Page Nr. 1/2 | F100: =F92
B102: =B3 -> BILL Nr. 1 - PRELIMINARIES
B103: Carried to General Summary | E103: GH¢ | F103: =(IF(SUM(F96:F102)>0, SUM(F96:F102), ""))

Sheet Bill Nr 2 - Main Building
A1: Item | B1: Description | C1: Qty | D1: Unit | E1: Rate | F1: Amount
F2: GH¢
B3: BILL Nr. 2 - MAIN BUILDING
B5: C EXISTING SITE/ BUILDINGS/ SERVICES
B7: The Contractor is advised to visit the site, carefully examine the items to be demolished, types of construction etc. and to study the implication of such demolition and the clearing away of the debris
B9: Salvaged materials shall be set aside and shall only be disposed of upon receipt of instructions from the Project Manager. In no case shall the credit value of salvaged materials be deducted from the rates of items in demolitions to show a net figure
B12: C45 DAMP PROOF COURSE RENEWAL / INSERTION
B14: Various locations on site
B16: Injection mortar damp proof courses; "MC-Oxal HSL-W" damp proof barrier chemical applied in accordance with manufacturer's specification
A18: A | B18: 150mm brickkwork; drilling 20mm diameter holes at 50mm centres [ 35 m ] | D18: Item
B21: C90 ALTERATIONS - SPOT ITEMS
B23: Various locations on site
B25: Removing fittings and fixtures and dispose off site
A27: B | B27: Hardwood door and frames, size 1200mm x 2100mm high [ 1 Nr ] | D27: Item
A29: C | B29: Wooden windows frames, size 2000mm x 1200mm high [ 1 Nr ] | D29: Item
A31: D | B31: Window netting, overall size 2000mm x 1200mm high [ 1 Nr ] | D31: Item
A33: E | B33: 8-blade louvre carriers [ 2 Nr ] | D33: Item
A35: F | B35: Window steel welded mesh, size 2000mm x 1200mm high [ 1 Nr ] | D35: Item
B38: =B5 -> C EXISTING SITE/ BUILDINGS/ SERVICES
B39: To Summary of bill Nr. 2 | E39: GH¢ | F39: =(IF(SUM(F2:F38)>0, SUM(F2:F38), ""))
B53: E. IN-SITU CONCRETE /LARGE PRECAST CONCRETE | F53: =IF(E53<>0, C53*E53, "")
F54: =IF(E54<>0, C54*E54, "")
B55: E.05 IN-SITU CONCRETE CONSTRUCTION GENERALLY | F55: =IF(E55<>0, C55*E55, "")
F56: =IF(E56<>0, C56*E56, "")
B57: Reinforced in-situ concrete, B. S. 5328, designed C25, 20mm | F57: =IF(E57<>0, C57*E57, "")
B58: aggregate, minimum cement 350 kg/m3; vibrated | F58: =IF(E58<>0, C58*E58, "")
B60: Upstands | F60: =IF(E60<>0, C60*E60, "")
F61: =IF(E61<>0, C61*E61, "")
A62: A | B62: generally | C62: 1 | D62: m3 | F62: =IF(E62<>0, C62*E62, "")
F63: =IF(E63<>0, C63*E63, "")
B64: E.20 FORMWORK FOR IN-SITU CONCRETE | F64: =IF(E64<>0, C64*E64, "")
F65: =IF(E65<>0, C65*E65, "")
B66: Sawn formwork; coating with release agent | F66: =IF(E66<>0, C66*E66, "")
F67: =IF(E67<>0, C67*E67, "")
B68: Upstands | F68: =IF(E68<>0, C68*E68, "")
F69: =IF(E69<>0, C69*E69, "")
A70: B | B70: generally; vertical | C70: 1 | D70: m2 | F70: =IF(E70<>0, C70*E70, "")
F71: =IF(E71<>0, C71*E71, "")
F72: =IF(E72<>0, C72*E72, "")
B73: E.30 REINFORCEMENT FOR IN-SITU CONCRETE | F73: =IF(E73<>0, C73*E73, "")
F74: =IF(E74<>0, C74*E74, "")
B75: Reinforcement; BS 4449 hot rolled deformed round Mild Steel; yield strength 250N/mm2 | F75: =IF(E75<>0, C75*E75, "")
F76: =IF(E76<>0, C76*E76, "")
B77: Bars; straight, bent and curved | F77: =IF(E77<>0, C77*E77, "")
F78: =IF(E78<>0, C78*E78, "")
A79: C | B79: 10mm diameter | C79: 0.13 | D79: t | F79: =IF(E79<>0, C79*E79, "")
A81: D | B81: 12mm diameter | C81: 0.12 | D81: t | F81: =IF(E81<>0, C81*E81, "")
F82: =IF(E82>0, C82*E82, "")
B83: =B53 -> E. IN-SITU CONCRETE /LARGE PRECAST CONCRETE
B84: =$B$39 -> To Summary of bill Nr. 2 | E84: =$E$39 -> GH¢ | F84: =(IF(SUM(F52:F83)>0, SUM(F52:F83), ""))
B107: L WINDOWS/DOORS/STAIRS | F107: =IF(E107<>0, C107*E107, "")
F108: =IF(E108<>0, C108*E108, "")
B109: L10 - WINDOWS / ROOFLIGHTS / SCREENS / LOUVRES | F109: =IF(E109<>0, C109*E109, "")
F110: =IF(E110<>0, C110*E110, "")
B111: Wrot hardwood; treated with preservative | F111: =IF(E111<>0, C111*E111, "")
F112: =IF(E112<>0, C112*E112, "")
B113: Window frames | F113: =IF(E113<>0, C113*E113, "")
F114: =IF(E114<>0, C114*E114, "")
A115: A | B115: 45 x 145mm; Jambs | C115: 16 | D115: m | F115: =IF(E115<>0, C115*E115, "")
F116: =IF(E116<>0, C116*E116, "")
A117: B | B117: 45 x 145mm; Heads | C117: 6 | D117: m | F117: =IF(E117<>0, C117*E117, "")
F118: =IF(E118<>0, C118*E118, "")
A119: C | B119: 45 x 145mm; Sills | C119: 8 | D119: m
A121: D | B121: 45 x 145mm; Mullions | C121: 1 | D121: m | F121: =IF(E121<>0, C121*E121, "")
F122: =IF(E122<>0, C122*E122, "")
B123: Pair "Naco" anodised aluminium carriers | F123: =IF(E123<>0, C123*E123, "")
F124: =IF(E124<>0, C124*E124, "")
B125: Louvre frames | F125: =IF(E125<>0, C125*E125, "")
F126: =IF(E126<>0, C126*E126, "")
A127: E | B127: 1125mm long with clips for eight 150mm wide blade with dual control screwed to hardwood | C127: 2 | D127: Nr | F127: =IF(E127<>0, C127*E127, "")
F128: =IF(E128<>0, C128*E128, "")
A129: F | B129: 760mm long with clips for six 150mm wide blade with single control screwed to hardwood | C129: 1 | D129: Nr | F129: =IF(E129<>0, C129*E129, "")
F130: =IF(E130<>0, C130*E130, "")
B131: Screens | F131: =IF(E131<>0, C131*E131, "")
F132: =IF(E132<>0, C132*E132, "")
B133: Fibre mesh netting | F133: =IF(E133<>0, C133*E133, "")
F134: =IF(E134<>0, C134*E134, "")
A135: G | B135: Insect-proofing gauze to windows fixed with battens (measured separately) | C135: 10 | D135: m2 | F135: =IF(E135<>0, C135*E135, "")
F136: =IF(E136<>0, C136*E136, "")
B137: Galvanised steel mesh | F137: =IF(E137<>0, C137*E137, "")
F138: =IF(E138<>0, C138*E138, "")
A139: H | B139: 50 x 50 x 3.0mm square welded metal mesh burglar-proofing fixed to hardwood with battens(measured separately) | C139: 10 | D139: m2 | F139: =IF(E139<>0, C139*E139, "")
F140: =IF(E140<>0, C140*E140, "")
B141: Burglar proofing | F141: =IF(E141<>0, C141*E141, "")
F142: =IF(E142<>0, C142*E142, "")
B143: Mild steel round bars | F143: =IF(E143<>0, C143*E143, "")
F144: =IF(E144<>0, C144*E144, "")
A145: K | B145: 20mm Diameter bar cut to length and threaded in mortices in hardwood frames | C145: 56 | D145: m | F145: =IF(E145<>0, C145*E145, "")
F146: =IF(E146<>0, C146*E146, "")
F147: =IF(E147<>0, C147*E147, "")
B148: Carried to collection | E148: =$E$39 -> GH¢ | F148: =(IF(SUM(F107:F147)>0, SUM(F107:F147), ""))
B157: L20 - DOORS / SHUTTERS / HATCHES | F157: =IF(E157<>0, C157*E157, "")
F158: =IF(E158<>0, C158*E158, "")
B159: Doors and frames in Extruded Aluminium profile and glass | F159: =IF(E159<>0, C159*E159, "")
F160: =IF(E160<>0, C160*E160, "")
B161: Aluminium doors and frames; powder coated colour profiles factory glazed with 6mm tempered clear sheet glass; fixing in position; including fixtures and subframe in galvanized steel with removable insect screen; standard fitting | F161: =IF(E161<>0, C161*E161, "")
F162: =IF(E162<>0, C162*E162, "")
B163: Swing Door | F163: =IF(E163<>0, C163*E163, "")
F164: =IF(E164<>0, C164*E164, "")
A165: A | B165: Overall size 1000 x 2100mm high Ref. D1 | C165: 1 | D165: Nr | F165: =IF(E165<>0, C165*E165, "")
...

Sheet Bill Nr 3 - Ext wks
A1: Item | B1: Description | C1: Qty | D1: Unit | E1: Rate | F1: Amount
F2: GH¢
B3: BILL Nr. 3 - EXTERNAL WORKS
F4: =IF(E4>0, C4*E4, "")
B5: PAVING | F5: =IF(E5<>0,C5*E5,"")
F6: =IF(E6<>0,C6*E6,"")
B7: Q20: GRANULAR SUB-BASES TO ROADS/PAVINGS | F7: =IF(E7<>0,C7*E7,"")
F8: =IF(E8<>0,C8*E8,"")
B9: 0 - 40mm crushed granite base material to be obtained on site | F9: =IF(E9<>0,C9*E9,"")
F10: =IF(E10<>0,C10*E10,"")
B11: Filling to make up levels; depositing in layers 150mm maximum; Compacting, 98% MOD AASHTO Density at OMC smooth wheeled roller | F11: =IF(E11<>0,C11*E11,"")
F12: =IF(E12<>0,C12*E12,"")
A13: A | B13: average thickness ≤ 0.25m | C13: 41 | D13: m3 | F13: =IF(E13<>0,C13*E13,"")
F14: =IF(E14<>0,C14*E14,"")
B15: Granite curushed Quarry dust to be obtained off site | F15: =IF(E15<>0,C15*E15,"")
F16: =IF(E16<>0,C16*E16,"")
B17: Filling to make up levels | F17: =IF(E17<>0,C17*E17,"")
F18: =IF(E18<>0,C18*E18,"")
A19: B | B19: average thickness ≤ 0.25m | C19: 2 | D19: m3 | F19: =IF(E19<>0,C19*E19,"")
F20: =IF(E20<>0,C20*E20,"")
F21: =IF(E21<>0,C21*E21,"")
B22: Q24: INTERLOCKING BRICK/BLOCK ROADS/PAVINGS | F22: =IF(E22<>0,C22*E22,"")
F23: =IF(E23<>0,C23*E23,"")
B24: Precast concrete paving blocks; symmetrical half bond layout; filling joints with quarry dust and brushed in, compacting with plate vibrator, sweeping off surplus | F24: =IF(E24<>0,C24*E24,"")
F25: =IF(E25<>0,C25*E25,"")
B26: 200 x 100 x 80 units to pavings on quarry dust base (measured separately) | F26: =IF(E26<>0,C26*E26,"")
F27: =IF(E27<>0,C27*E27,"")
A28: C | B28: 80 thick (30N/mm2); level and to falls only | C28: 119 | D28: m2 | F28: =IF(E28<>0,C28*E28,"")
F29: =IF(E29<>0,C29*E29,"")
B30: 350 Micron gauge damp-proof polythene membrane with side laps in continuous adhesive joint, spread and well secured to laterite filling (measured separately) | F30: =IF(E30<>0,C30*E30,"")
F31: =IF(E31<>0,C31*E31,"")
B32: Accessories | F32: =IF(E32<>0,C32*E32,"")
F33: =IF(E33<>0,C33*E33,"")
A34: D | B34: Separating membrane | C34: 119 | D34: m2 | F34: =IF(E34<>0,C34*E34,"")
F35: =IF(E35<>0,C35*E35,"")
F36: =IF(E36<>0,C36*E36,"")
B37: =B5 -> PAVING | F37: =IF(E37<>0,C37*E37,"")
B38: To Summary of Bill Nr. 3 | E38: =$F$2 -> GH¢ | F38: =(IF(SUM(F5:F37)>0,SUM(F5:F37),""))
B52: KERBS AND DRAINS | F52: =IF(E52<>0,C52*E52,"")
F53: =IF(E53<>0,C53*E53,"")
B54: Q10: KERBS/ EDGINGS/ CHANNELS/ PAVING ACCESSORIES
B56: KERBS
B58: Excavating | F58: =IF(E58<>0,C58*E58,"")
F59: =IF(E59<>0,C59*E59,"")
B60: Trenches | F60: =IF(E60<>0,C60*E60,"")
F61: =IF(E61<>0,C61*E61,"")
A62: A | B62: width ≤ 300mm; maximum depth ≤ 0.25m | C62: 2 | D62: m3 | F62: =IF(E62<>0,C62*E62,"")
F63: =IF(E63<>0,C63*E63,"")
B64: Disposal | F64: =IF(E64<>0,C64*E64,"")
B66: Excavated materials
F67: =IF(E67<>0,C67*E67,"")
A68: B | B68: off site | C68: 2 | D68: m3 | F68: =IF(E68<>0,C68*E68,"")
F69: =IF(E69<>0,C69*E69,"")
B70: Precast concrete; standard or stock pattern units; B.S.7263; bedding, jointing and pointing in cement mortar (1:3); on plain in-situ concrete foundation; B.S.5328 ordinary prescribed mix 20N/mm2, 20 aggregate | F70: =IF(E70<>0,C70*E70,"")
F71: =IF(E71<>0,C71*E71,"")
B72: Kerbs; rectangular section; 9 degree splayed; concrete foundation and haunching; formwork; driveway | F72: =IF(E72<>0,C72*E72,"")
F73: =IF(E73<>0,C73*E73,"")
A74: C | B74: 150 x 350 kerb; 280 x 100 foundation | C74: 23 | D74: m | F74: =IF(E74<>0,C74*E74,"")
F75: =IF(E75<>0,C75*E75,"")
F76: =IF(E76<>0,C76*E76,"")
B77: =B52 -> KERBS AND DRAINS | F77: =IF(E77<>0,C77*E77,"")
B78: =$B$38 -> To Summary of Bill Nr. 3 | E78: =$F$2 -> GH¢ | F78: =(IF(SUM(F52:F77)>0,SUM(F52:F77),""))
B103: GENERATOR STEEL CAGE | F103: =IF(E103<>0,C103*E103,"")
F104: =IF(E104<>0,C104*E104,"")
B105: P BUILDING FABRIC SUNDRIES
B107: P20 - UNFRAMED ISOLATED TRIMS / SKIRTINGS / SUNDRY ITEMS
B109: Prism shaped steel cage
B111: Metalwork in galvanised steel pipes; Spec BS 6323; hot rolled sections; 50 x 50mm and 25 x 25mm square pipes with all necessary accessories; fixed into position to blockwork or concrete; spray painted with gloss oil paint
B113: Burlar proof cage | F113: =IF(E113<>0, C113*E113, "")
F114: =IF(E114<>0, C114*E114, "")
A115: A | B115: 1,200 x 900, 900mm high; fixing lugs to concrete | C115: 1 | D115: Nr | F115: =IF(E115<>0, C115*E115, "")
F116: =IF(E116<>0,C116*E116,"")
F117: =IF(E117<>0,C117*E117,"")
B118: =B103 -> GENERATOR STEEL CAGE | F118: =IF(E118<>0,C118*E118,"")
B119: =$B$38 -> To Summary of Bill Nr. 3 | E119: =$F$2 -> GH¢ | F119: =(IF(SUM(F103:F118)>0,SUM(F103:F118),""))
F155: =IF(E155<>0, C155*E155, "")
B156: OUTDOOR WAITING SHED | F156: =IF(E156<>0, C156*E156, "")
F157: =IF(E157<>0, C157*E157, "")
B158: G. STRUCTURAL / CARCASSING METAL / TIMBER | F158: =IF(E158<>0, C158*E158, "")
F159: =IF(E159<>0, C159*E159, "")
B160: G10 STRUCTURAL STEEL FRAMING | F160: =IF(E160<>0, C160*E160, "")
F161: =IF(E161<>0, C161*E161, "")
B162: Framing, fabrication and erction; Spec Circular Hollow Section 62 x 3mm CHS to BS 4360; Grade 43, hot rolled setions; hot dipped galvanised | F162: =IF(E162<>0, C162*E162, "")
F163: =IF(E163<>0, C163*E163, "")
B164: Columns | F164: =IF(E164<>0, C164*E164, "")
F165: =IF(E165<>0, C165*E165, "")
A166: A | B166: Weight ≤ 40 kg/m | C166: 0.16 | D166: t | F166: =IF(E166<>0, C166*E166, "")
F167: =IF(E167<>0, C167*E167, "")
F168: =IF(E168<>0, C168*E168, "")
B169: G20: CARPENTRY/TIMBER FRAMING/FIRST FIXING | F169: =IF(E169<>0, C169*E169, "")
F170: =IF(E170<>0, C170*E170, "")
B171: Sawn hardwood in 'Dahoma' species or other approved equal: treated with clear solignum preservative | F171: =IF(E171<>0, C171*E171, "")
F172: =IF(E172<>0, C172*E172, "")
B173: Trussed rafters | F173: =IF(E173<>0, C173*E173, "")
F174: =IF(E174<>0, C174*E174, "")
A175: B | B175: Triangulated plane pattern; 50 x 150mm members, comprising 2Nr top chord, 2Nr bottom chord, 7Nr ties, 6Nr struts; jointed by wire nails; overall size 6840 x 750mm high | C175: 4 | D175: Nr | F175: =IF(E175<>0, C175*E175, "")
F176: =IF(E176<>0, C176*E176, "")
B177: Roof members; pitched | F177: =IF(E177<>0, C177*E177, "")
F178: =IF(E178<>0, C178*E178, "")
A179: C | B179: 50 x 150mm | C179: 128 | D179: m | F179: =IF(E179<>0, C179*E179, "")
...

Sheet General Summary 
A1: Item | B1: Description | C1: Qty | D1: Unit | E1: Rate | F1: Amount
F2: GH¢
A3: Page
A4: Nr | B4: GENERAL SUMMARY
A7: 1/2 | B7: ='Bill Nr 1 - Prelims'!B102 -> BILL Nr. 1 - PRELIMINARIES | C7: … | D7: … | E7: … | F7: ='Bill Nr 1 - Prelims'!F103
A10: 2/12 | B10: ='Bill Nr 2 - Main Building'!B612 -> BILL Nr. 2 - MAIN BUILDING | C10: … | D10: … | E10: … | F10: ='Bill Nr 2 - Main Building'!F613
A13: 3/9 | B13: ='Bill Nr 3 - Ext wks'!B444 -> BILL Nr. 3 - EXTERNAL WORKS | C13: … | D13: … | E13: … | F13: ='Bill Nr 3 - Ext wks'!F445
B17: Sub-Total | E17: GH¢ | F17: =SUM(F2:F16) -> 0
B19: CONTINGENCY
B21: Include the Provisional sum of Forty Thousand Ghana Cedis (GH¢ 40,000.00) for Contingencies to be expended or deducted in full or part as directed
B25: TOTAL CARRIED TO FORM OF TENDER | E25: GH¢ | F25: =SUM(F16:F21) -> 0
B32: Signed…………………………………….….………….
B33: for and on behalf of:
B35: ……………………………………………………………
B37: Tel ………………………………………………………..
B39: Date ………………………………………………………
