Workbook
Name \a: #N/A
Name \m: #N/A
Name \P: #REF!
Name \P: #REF!
Name \P: #REF!
Name \S: '[1]SCHEDULE CARRIER SPA'!#REF!
Name \S: '[1]SCHEDULE CARRIER SPA'!#REF!
Name \S: '[1]SCHEDULE CARRIER SPA'!#REF!
Name \S: '[1]SCHEDULE CARRIER SPA'!#REF!
Name _: '[2]GRAPHIC BILL OF QUANTITIES'!#REF!
Name _: '[2]GRAPHIC BILL OF QUANTITIES'!#REF!
Name _: '[2]GRAPHIC BILL OF QUANTITIES'!#REF!
Name _: '[2]GRAPHIC BILL OF QUANTITIES'!#REF!
Name ___________________mh3: '[3]MH21-MH22'!#REF!
Name ____________tot2: #REF!
Name ___________tot2: #REF!
Name __________tot2: #REF!
Name _________tot2: #REF!
Name ________tot2: #REF!
Name _______tot2: #REF!
Name ______tot2: #REF!
Name _____tot2: #REF!
Name ____tot2: #REF!
Name ___ACC0320: #REF!
Name ___ACC0320: #REF!
Name ___ACC0320: #REF!
Name ___BAL0320: #REF!
Name ___BAL0320: #REF!
Name ___BAL0320: #REF!
Name ___BAL0344: #REF!
Name ___BAL0344: #REF!
Name ___BAL0344: #REF!
Name ___BAL0348: #REF!
Name ___BAL0348: #REF!
Name ___BAL0348: #REF!
Name ___BAL0360: #REF!
Name ___BAL0360: #REF!
Name ___BAL0360: #REF!
Name ___BAL0361: #REF!
Name ___BAL0361: #REF!
Name ___BAL0361: #REF!
Name ___BAL0367: #REF!
Name ___BAL0367: #REF!
Name ___BAL0367: #REF!
Name ___BAL0370: #REF!
Name ___BAL0370: #REF!
Name ___BAL0370: #REF!
Name ___BAL0375: #REF!
Name ___BAL0375: #REF!
Name ___BAL0375: #REF!
Name ___BAL0384: #REF!
Name ___BAL0384: #REF!
Name ___BAL0384: #REF!
Name ___BAL0385: #REF!
Name ___BAL0385: #REF!
Name ___BAL0385: #REF!
Name ___BAL0386: #REF!
Name ___BAL0386: #REF!
Name ___BAL0386: #REF!
Name ___BAL0387: #REF!

Sheet Cover Page
C9: RENOVATION OF NIA OFFICE PREMISES
C17: AT
C18: HOHOE OFFICE
C19: VOLTA REGION
C22: FOR
C23: NATIONAL IDENTIFICATION
C24: AUTHORITY
C30: BILLS OF QUANTITIES
G46: September, 2026

Sheet Table of Content
B3: TABLE OF CONTENT
H5: PAGE Nr
B8: BILL Nr. 1 - PRELIMINARIES ………………………………………………………………………………………. | H8: 1/1 - 1/2
B11: BILL Nr. 2 - MAIN BUILDING ………………………………………………………………. | H11: 2/1 - 2/12
B14: BILL Nr. 3 - EXTERNAL WORKS …………………………………………………………………. | H14: 3/1 - 3/9
B17: GENERAL SUMMARY ……………………………………………………………………………. | H17: GS / 1
B57: BILL Nr. 1 - PRELIMINARIES | J57: 2
B60: BILL Nr. 2 - MAIN BUILDING | J60: 3
B63: BILL Nr. 3 - EXTERNAL WORKS | J63: 4
B66: GENERAL SUMMARY | J66: 5

Sheet Bill Nr 1 - Prelims
A1: Item | B1: Description | C1: Qty | D1: Unit | E1: Rate | F1: Amount
F2: GH¢
B3: BILL Nr. 1 - PRELIMINARIES
B5: A10 PROJECT PARTICULARS
B7: Title of project and location
B9: RENOVATION OF OFFICE OFFICE PREMISES AT HOHOE, VOLTA REGION FOR NATIONAL IDENTIFICATION AUTHORITY
B12: A13 DESCRIPTION OF THE WORKS
B14: THE WORKS : The renovation of i. One Storey Commercial Building 12,060 x 8,040 x 3,700mm high at Roof level; ii External Works
B17: Schedule of Works
B19: i. Remove window louvre window, construct upstand to treat leakage
B20: and reinstate
B22: ii. Replace wooden front entrance door with glass door and install
B23: burglarproof
B25: iii. Replace all louvre carriers, window netting, missing & broken
... B51: xv. Install signage by roadside
F53: =IF(E53<>0, A53*E53, "")
B54: Carried to Collection | E54: =$F$2 -> GH¢ | F54: =(IF(SUM(F12:F53)>0, SUM(F12:F53), ""))
B59: A40 - 49 CONTRACTOR'S GENERAL COST ITEMS
B61: Allow for providing on site the underlisted required for
B62: execution of the works throughout the duration of the works;
A64: A | B64: Supervision (Agent or Foreman-in-Charge)
A65: B | B65: Progress Photographs
A66: C | B66: Setting Out of Works
A67: D | B67: Room for Meetings
A68: E | B68: Site Offices Generally
A69: F | B69: Toilet facilities
A70: G | B70: As-built drawing of finished building
A71: H | B71: Temporary Power for the Works
A72: J | B72: Temporary Lighting
A73: K | B73: Water for the Works
A74: L | B74: Site Safety and Health
A75: M | B75: Rubbish and Rubble disposal
... A89: AC | B89: Rubbish Disposal and Cleaning
F91: =IF(E91<>0, A91*E91, "")
B92: Carried to Collection | E92: =$F$2 -> GH¢ | F92: =(IF(SUM(F61:F91)>0, SUM(F61:F91), ""))
B96: COLLECTION
B98: Page Nr. 1/1 | F98: =F54
B100: Page Nr. 1/2 | F100: =F92
B102: =B3 -> BILL Nr. 1 - PRELIMINARIES
B103: Carried to General Summary | E103: GH¢ | F103: =(IF(SUM(F96:F102)>0, SUM(F96:F102), ""))

Sheet Bill Nr 2 - Main Building
A1: Item | B1: Description | C1: Qty | D1: Unit | E1: Rate | F1: Amount
F2: GH¢
B3: BILL Nr. 2 - MAIN BUILDING
B5: C EXISTING SITE/ BUILDINGS/ SERVICES
B7: The Contractor is advised to visit the site, carefully examine the items to be demolished, types of construction etc. and to study the implication of such demolition and the clearing away of the debris
B9: Salvaged materials shall be set aside and shall only be disposed of upon receipt of instructions from the Project Manager. In no case shall the credit value of salvaged materials be deducted from the rates of items in demolitions to show a net figure
B12: C45 DAMP PROOF COURSE RENEWAL / INSERTION
B14: Various locations on site
B16: Injection mortar damp proof courses; "MC-Oxal HSL-W" damp proof barrier chemical applied in accordance with manufacturer's specification
A18: A | B18: 150mm brickkwork; drilling 20mm diameter holes at 50mm centres [ 35 m ] | D18: Item
B21: C90 ALTERATIONS - SPOT ITEMS
B23: Various locations on site
B25: Removing fittings and fixtures and dispose off site
A27: B | B27: Hardwood door and frames, size 1200mm x 2100mm high [ 1 Nr ] | D27: Item
A29: C | B29: Wooden windows frames, size 2000mm x 1200mm high [ 1 Nr ] | D29: Item
A31: D | B31: Window netting, overall size 2000mm x 1200mm high [ 1 Nr ] | D31: Item
A33: E | B33: 8-blade louvre carriers [ 2 Nr ] | D33: Item
A35: F | B35: Window steel welded mesh, size 2000mm x 1200mm high [ 1 Nr ] | D35: Item
B38: =B5 -> C EXISTING SITE/ BUILDINGS/ SERVICES
B39: To Summary of bill Nr. 2 | E39: GH¢ | F39: =(IF(SUM(F2:F38)>0, SUM(F2:F38), ""))
B53: E. IN-SITU CONCRETE /LARGE PRECAST CONCRETE | F53: =IF(E53<>0, C53*E53, "")
F54: =IF(E54<>0, C54*E54, "")
B55: E.05 IN-SITU CONCRETE CONSTRUCTION GENERALLY | F55: =IF(E55<>0, C55*E55, "")
F56: =IF(E56<>0, C56*E56, "")
B57: Reinforced in-situ concrete, B. S. 5328, designed C25, 20mm | F57: =IF(E57<>0, C57*E57, "")
B58: aggregate, minimum cement 350 kg/m3; vibrated | F58: =IF(E58<>0, C58*E58, "")
B60: Upstands | F60: =IF(E60<>0, C60*E60, "")
F61: =IF(E61<>0, C61*E61, "")
A62: A | B62: generally | C62: 1 | D62: m3 | F62: =IF(E62<>0, C62*E62, "")
F63: =IF(E63<>0, C63*E63, "")
B64: E.20 FORMWORK FOR IN-SITU CONCRETE | F64: =IF(E64<>0, C64*E64, "")
F65: =IF(E65<>0, C65*E65, "")
B66: Sawn formwork; coating with release agent | F66: =IF(E66<>0, C66*E66, "")
F67: =IF(E67<>0, C67*E67, "")
B68: Upstands | F68: =IF(E68<>0, C68*E68, "")
F69: =IF(E69<>0, C69*E69, "")
A70: B | B70: generally; vertical | C70: 1 | D70: m2 | F70: =IF(E70<>0, C70*E70, "")
F71: =IF(E71<>0, C71*E71, "")
F72: =IF(E72<>0, C72*E72, "")
B73: E.30 REINFORCEMENT FOR IN-SITU CONCRETE | F73: =IF(E73<>0, C73*E73, "")
...

Sheet Bill Nr 3 - Ext wks
A1: Item | B1: Description | C1: Qty | D1: Unit | E1: Rate | F1: Amount
F2: GH¢
B3: BILL Nr. 3 - EXTERNAL WORKS
F4: =IF(E4>0, C4*E4, "")
B5: PAVING | F5: =IF(E5<>0,C5*E5,"")
F6: =IF(E6<>0,C6*E6,"")
B7: Q20: GRANULAR SUB-BASES TO ROADS/PAVINGS | F7: =IF(E7<>0,C7*E7,"")
F8: =IF(E8<>0,C8*E8,"")
B9: 0 - 40mm crushed granite base material to be obtained on site | F9: =IF(E9<>0,C9*E9,"")
F10: =IF(E10<>0,C10*E10,"")
B11: Filling to make up levels; depositing in layers 150mm maximum; Compacting, 98% MOD AASHTO Density at OMC smooth wheeled roller | F11: =IF(E11<>0,C11*E11,"")
F12: =IF(E12<>0,C12*E12,"")
A13: A | B13: average thickness ≤ 0.25m | C13: 41 | D13: m3 | F13: =IF(E13<>0,C13*E13,"")
F14: =IF(E14<>0,C14*E14,"")
B15: Granite curushed Quarry dust to be obtained off site | F15: =IF(E15<>0,C15*E15,"")
F16: =IF(E16<>0,C16*E16,"")
B17: Filling to make up levels | F17: =IF(E17<>0,C17*E17,"")
F18: =IF(E18<>0,C18*E18,"")
A19: B | B19: average thickness ≤ 0.25m | C19: 2 | D19: m3 | F19: =IF(E19<>0,C19*E19,"")
F20: =IF(E20<>0,C20*E20,"")
F21: =IF(E21<>0,C21*E21,"")
B22: Q24: INTERLOCKING BRICK/BLOCK ROADS/PAVINGS | F22: =IF(E22<>0,C22*E22,"")
F23: =IF(E23<>0,C23*E23,"")
B24: Precast concrete paving blocks; symmetrical half bond layout; filling joints with quarry dust and brushed in, compacting with plate vibrator, sweeping off surplus | F24: =IF(E24<>0,C24*E24,"")
F25: =IF(E25<>0,C25*E25,"")
B26: 200 x 100 x 80 units to pavings on quarry dust base (measured separately) | F26: =IF(E26<>0,C26*E26,"")
F27: =IF(E27<>0,C27*E27,"")
A28: C | B28: 80 thick (30N/mm2); level and to falls only | C28: 119 | D28: m2 | F28: =IF(E28<>0,C28*E28,"")
F29: =IF(E29<>0,C29*E29,"")
B30: 350 Micron gauge damp-proof polythene membrane with side laps in continuous adhesive joint, spread and well secured to laterite filling (measured separately) | F30: =IF(E30<>0,C30*E30,"")
F31: =IF(E31<>0,C31*E31,"")
B32: Accessories | F32: =IF(E32<>0,C32*E32,"")
F33: =IF(E33<>0,C33*E33,"")
A34: D | B34: Separating membrane | C34: 119 | D34: m2 | F34: =IF(E34<>0,C34*E34,"")
F35: =IF(E35<>0,C35*E35,"")
F36: =IF(E36<>0,C36*E36,"")
B37: =B5 -> PAVING | F37: =IF(E37<>0,C37*E37,"")
B38: To Summary of Bill Nr. 3 | E38: =$F$2 -> GH¢ | F38: =(IF(SUM(F5:F37)>0,SUM(F5:F37),""))
B52: KERBS AND DRAINS | F52: =IF(E52<>0,C52*E52,"")
F53: =IF(E53<>0,C53*E53,"")
...

Sheet General Summary 
A1: Item | B1: Description | C1: Qty | D1: Unit | E1: Rate | F1: Amount
F2: GH¢
A3: Page
A4: Nr | B4: GENERAL SUMMARY
A7: 1/2 | B7: ='Bill Nr 1 - Prelims'!B102 -> BILL Nr. 1 - PRELIMINARIES | C7: … | D7: … | E7: … | F7: ='Bill Nr 1 - Prelims'!F103
A10: 2/12 | B10: ='Bill Nr 2 - Main Building'!B612 -> BILL Nr. 2 - MAIN BUILDING | C10: … | D10: … | E10: … | F10: ='Bill Nr 2 - Main Building'!F613
A13: 3/9 | B13: ='Bill Nr 3 - Ext wks'!B444 -> BILL Nr. 3 - EXTERNAL WORKS | C13: … | D13: … | E13: … | F13: ='Bill Nr 3 - Ext wks'!F445
B17: Sub-Total | E17: GH¢ | F17: =SUM(F2:F16) -> 0
B19: CONTINGENCY
B21: Include the Provisional sum of Forty Thousand Ghana Cedis (GH¢ 40,000.00) for Contingencies to be expended or deducted in full or part as directed
B25: TOTAL CARRIED TO FORM OF TENDER | E25: GH¢ | F25: =SUM(F16:F21) -> 0
B32: Signed…………………………………….….………….
B33: for and on behalf of:
B35: ……………………………………………………………
B37: Tel ………………………………………………………..
B39: Date ………………………………………………………
